BEGIN:VCALENDAR
VERSION:2.0
PRODID:-//Ibiza Sabors d´ Eivissa - ECPv6.0.6.2//NONSGML v1.0//EN
CALSCALE:GREGORIAN
METHOD:PUBLISH
X-ORIGINAL-URL:https://www.saborsdeivissa.es
X-WR-CALDESC:Eventos para Ibiza Sabors d´ Eivissa
REFRESH-INTERVAL;VALUE=DURATION:PT1H
X-Robots-Tag:noindex
X-PUBLISHED-TTL:PT1H
BEGIN:VTIMEZONE
TZID:Europe/Madrid
BEGIN:DAYLIGHT
TZOFFSETFROM:+0100
TZOFFSETTO:+0200
TZNAME:CEST
DTSTART:20230326T010000
END:DAYLIGHT
BEGIN:STANDARD
TZOFFSETFROM:+0200
TZOFFSETTO:+0100
TZNAME:CET
DTSTART:20231029T010000
END:STANDARD
END:VTIMEZONE
BEGIN:VEVENT
DTSTART;TZID=Europe/Madrid:20230819T100000
DTEND;TZID=Europe/Madrid:20230819T140000
DTSTAMP:20260425T170117
CREATED:20230608T124517Z
LAST-MODIFIED:20230816T092053Z
UID:2843-1692439200-1692453600@www.saborsdeivissa.es
SUMMARY:4º Evento en Sant Josep con producto local de Ibiza: Degustación gratuita y  Showcooking
DESCRIPTION:Ibiza Sabors Eivissa\, ofrece como cada cada verano\, un Showcooking de producto local a cargo de la Chef Marga Orell.\nSe ofrecerá una degustación gratuita\, a aquellos turistas y residentes\, que se acerquen al mercadillo de artesanos de Sant Josep para conocer la gastronomía de la isla.\nDurante toda la época estival se llevarán a cabo estas acciones de promoción gastronómica en diferentes puntos de la isla\, como: \n\nMercadillo de Las Dalias\nMercado de Artesanos de Sant Josep\nPuerto de Ibiza\n\nSe ofrecerá una degustación gratuita con el objetivo de dar a conocer los sabores típicos de la isla\, sus características y los productos de la temporada de verano. Una buena oportunidad para poder dar a conocer los productos gastronómicos y sabores de nuestra Ibiza. \n\n\n\n\n\n\n\n\n\n\nLa importancia de eventos como  este radica en la preservación de la identidad culinaria de la isla. En un mundo globalizado\, donde las tendencias culinarias pueden influir en las preferencias locales\, este tipo de actos de promoción\,  juegan un papel crucial en mantener viva la tradición gastronómica ibicenca. La cocina de Ibiza no se trata solo de la mezcla de ingredientes\, sino de la herencia cultural que se transmite a través de generaciones de chefs y productores locales. \nEste evento también ofrece una plataforma para los productores locales\, ya que los ingredientes frescos y de calidad son la base de la cocina de la isla. Los pescadores\, agricultores y artesanos locales encuentran en la marca de promoción  «Ibiza Sabors Eivissa» una oportunidad para exhibir sus productos y compartir su pasión por la producción sostenible y la autenticidad alimentaria. Los asistentes tienen la oportunidad de aprender sobre los productos tradicionales que han dado forma a los sabores que disfrutan. \nNuestro stand de promoción es mucho más que un evento culinario; es una celebración de la identidad de la isla y una invitación a explorar su riqueza gastronómica. A través del Showcooking dirigido por la Chef Marga Orell y las degustaciones gratuitas de productos locales\, los asistentes tienen la oportunidad de conectarse con la cultura y los sabores de Ibiza de una manera auténtica y apasionante. Ya sea un turista que busca una experiencia inolvidable o un residente que desea reavivar su amor por la isla\, este evento es una oportunidad para saborear la verdadera esencia de Ibiza. ¡No pierdas la oportunidad de sumergirte en esta experiencia culinaria única! \n\n\n\n\n \n\n\n\n\n\n\n\n\n\n\n\n\n\n\n\n\n\n\n\n\nShowcooking de producto local de Ibiza \n  \n  \n  \n  \n  \n 
URL:https://www.saborsdeivissa.es/evento/sant-josep-producto-local-ibiza/
LOCATION:Sant Josep de Sa Talaia\, Carrer Pere Escanelles\, Sant Josep de Sa Talaia\, Islas Baleares\, 07830\, España
ATTACH;FMTTYPE=image/jpeg:https://www.saborsdeivissa.es/wp-content/uploads/2023/05/agenda-web-.jpeg
END:VEVENT
END:VCALENDAR