BEGIN:VCALENDAR
VERSION:2.0
PRODID:-//Ibiza Sabors d´ Eivissa - ECPv6.0.6.2//NONSGML v1.0//EN
CALSCALE:GREGORIAN
METHOD:PUBLISH
X-ORIGINAL-URL:https://www.saborsdeivissa.es
X-WR-CALDESC:Eventos para Ibiza Sabors d´ Eivissa
REFRESH-INTERVAL;VALUE=DURATION:PT1H
X-Robots-Tag:noindex
X-PUBLISHED-TTL:PT1H
BEGIN:VTIMEZONE
TZID:Europe/Madrid
BEGIN:DAYLIGHT
TZOFFSETFROM:+0100
TZOFFSETTO:+0200
TZNAME:CEST
DTSTART:20230326T010000
END:DAYLIGHT
BEGIN:STANDARD
TZOFFSETFROM:+0200
TZOFFSETTO:+0100
TZNAME:CET
DTSTART:20231029T010000
END:STANDARD
END:VTIMEZONE
BEGIN:VEVENT
DTSTART;TZID=Europe/Madrid:20231028T110000
DTEND;TZID=Europe/Madrid:20231028T233000
DTSTAMP:20260425T152136
CREATED:20230612T174743Z
LAST-MODIFIED:20231117T114439Z
UID:2889-1698490800-1698535800@www.saborsdeivissa.es
SUMMARY:Feria Gastronómica del Calamar en Sant Carles. Ibiza 2023
DESCRIPTION:La Feria Gastronómica del Calamar vuelve el sábado 28 de Octubre a Sant Carles de Peralta con una tonelada de producto y unas 8.000 tapas\n\n\n\n\n\nCada año\, las festividades patronales de Sant Carles de Peralta se convierten en un escenario vibrante para los amantes de la gastronomía en Ibiza. La Fira Gastronòmica del Calamar\, un evento esperado con entusiasmo\, es organizado en colaboración por la Comisión de Fiestas\, AAVV La Unión\, la Confraria de Pescadors d’Eivissa y el Ayuntamiento de Santa Eulària des Riu\, con el valioso apoyo del Consell Insular d’Eivissa. \nEsta feria es es una de las grandes fiestas gastronómicas que organiza Peix Nostrum\, la cofradía de pescadores de Ibiza y Formentera y año tras año se convierte en una celebración de los sabores auténticos de Ibiza\, destacando el producto local por excelencia: el calamar. \nEl evento\, que comienza a las 11 de la mañana con la preparación de las recetas que van a servirse\, se desarrolla en el pintoresco entorno de la iglesia de Sant Carles\, es una oportunidad única para los amantes de la cocina y la cultura de Ibiza. \nUno de los aspectos más destacados de esta feria es su carácter inclusivo\, ya que invita tanto a cocineros profesionales como a entusiastas amateurs a mostrar su talento culinario. Los participantes tienen la oportunidad de presentar una variedad de platos\, desde preparaciones tradicionales que rinden homenaje a las raíces gastronómicas de la isla hasta creaciones innovadoras que destacan la versatilidad del calamar. \nYa se han recibido preinscripciones de alrededor de una veintena de grupos\, lo que promete una competencia emocionante y una amplia gama de deliciosos platillos. La Confraria de Pescadors d’Eivissa desempeña un papel fundamental al garantizar un suministro fresco y abundante de calamar para los participantes. Se estima que se podrán servir hasta 8\,000 raciones\, lo que brinda la oportunidad a los asistentes de disfrutar de este manjar marino. \nUna característica única de la Fira des Calamar es su sistema de precios\, que se basa en la conversión de euros a ‘carlinos’\, la moneda oficial de las festividades patronales. Esta iniciativa agrega un toque especial a la feria y permite a los visitantes sumergirse en la auténtica atmósfera local. \nAdemás de la increíble comida\, la feria también ofrece entretenimiento para toda la familia. Una zona de juegos y talleres infantiles brinda a los más pequeños la oportunidad de divertirse y aprender mientras los adultos disfrutan de las delicias culinarias y la música en vivo. Las actuaciones musicales son una parte integral de la Fira Gastronòmica del Calamar\, lo que garantiza que el ambiente esté lleno de alegría y celebración. \nPara hacer que la visita sea aún más cómoda y accesible\, se habilitarán alrededor de 5\,000 plazas de aparcamiento en todo el núcleo de Sant Carles\, lo que facilitará el acceso. \nLa Fira Gastronòmica del Calamar en Sant Carles de Peralta es una celebración culinaria que refleja la riqueza de la gastronomía local de Ibiza.  Con una amplia variedad de platos\, actividades para toda la familia y un ambiente festivo\, es un evento que no te querrás perder si visitas la isla durante las festividades patronales. Ven y disfruta de los sabores auténticos de Ibiza en un entorno encantador y acogedor. \n\n\n\n\n\nFeria gastronómica del Calamar. Sant Carles de Peralta. Ibiza \n 
URL:https://www.saborsdeivissa.es/evento/feria-gastronomica-del-calamar-ibiza/
LOCATION:Sant Carles de Peralta\, Sant Carles de Peralta 07850\, Sant Carles de Peralta\, Balearic Islands\, Islas Baleares\, 07850\, España
ATTACH;FMTTYPE=image/jpeg:https://www.saborsdeivissa.es/wp-content/uploads/2023/06/feria-del-calamar.jpg
END:VEVENT
END:VCALENDAR