BEGIN:VCALENDAR
VERSION:2.0
PRODID:-//Ibiza Sabors d´ Eivissa - ECPv6.0.6.2//NONSGML v1.0//EN
CALSCALE:GREGORIAN
METHOD:PUBLISH
X-ORIGINAL-URL:https://www.saborsdeivissa.es
X-WR-CALDESC:Eventos para Ibiza Sabors d´ Eivissa
REFRESH-INTERVAL;VALUE=DURATION:PT1H
X-Robots-Tag:noindex
X-PUBLISHED-TTL:PT1H
BEGIN:VTIMEZONE
TZID:Europe/Madrid
BEGIN:DAYLIGHT
TZOFFSETFROM:+0100
TZOFFSETTO:+0200
TZNAME:CEST
DTSTART:20230326T010000
END:DAYLIGHT
BEGIN:STANDARD
TZOFFSETFROM:+0200
TZOFFSETTO:+0100
TZNAME:CET
DTSTART:20231029T010000
END:STANDARD
END:VTIMEZONE
BEGIN:VEVENT
DTSTART;TZID=Europe/Madrid:20230415T110000
DTEND;TZID=Europe/Madrid:20230415T170000
DTSTAMP:20260419T142801
CREATED:20230413T101610Z
LAST-MODIFIED:20230413T104034Z
UID:2186-1681556400-1681578000@www.saborsdeivissa.es
SUMMARY:Concurs Intergalàctic de Frita de Matançes
DESCRIPTION:Sant Jordi va de Frita’  La cita culinaria que tiene lugar en Sant Jordi de Ses Salines\, ofrece como cada año\, además del concurso de este plato tradicional ibicenco\, una gran frita popular para 600 personas para que todo los que visiten esta competición puedan probarla. Las raciones de esta frita popular se podrán adquirir por 15 euros\, que incluyen pan\, bebida y postre y se destinarán a  la asociación Aspanadif.
URL:https://www.saborsdeivissa.es/evento/concurs-intergalactic-de-frita-de-matances/
LOCATION:Plaça de Sant Jordi\, Sant Jordi de Ses Salines\, España\, España
ATTACH;FMTTYPE=image/png:https://www.saborsdeivissa.es/wp-content/uploads/2023/04/frita-matances.png
END:VEVENT
BEGIN:VEVENT
DTSTART;TZID=Europe/Madrid:20230415T120000
DTEND;TZID=Europe/Madrid:20230415T140000
DTSTAMP:20260419T142801
CREATED:20230417T121153Z
LAST-MODIFIED:20230417T122256Z
UID:2270-1681560000-1681567200@www.saborsdeivissa.es
SUMMARY:Visita guiada a las Bodegas Can Maymó
DESCRIPTION:Visita a las bodegas Can Maymó\, acompañada de una degustación de quesos y embutidos ibicencos mientras se ofrece una cata de vinos de la Tierra de Ibiza.\nRegistro en restauracio@pimeef.com
URL:https://www.saborsdeivissa.es/evento/visita-guiada-a-las-bodegas-can-maymo/
LOCATION:Can Maymó\, Diseminado Cami des Turs\,32032.\, Illes Balears\, 07816\, España
ATTACH;FMTTYPE=image/jpeg:https://www.saborsdeivissa.es/wp-content/uploads/2023/04/can-maymo-510-×-288-px-1080-×-608-px-510-×-288-px.jpeg
END:VEVENT
BEGIN:VEVENT
DTSTART;VALUE=DATE:20230418
DTEND;VALUE=DATE:20230520
DTSTAMP:20260419T142801
CREATED:20230412T090914Z
LAST-MODIFIED:20230612T191227Z
UID:2162-1681776000-1684540799@www.saborsdeivissa.es
SUMMARY:Jornadas Gastronómicas Sabors de primavera
DESCRIPTION:La Pimeef\, con la colaboración del Consell Insular d’Eivissa\, organiza las Jornadas gastronómicas de primavera en las que restaurantes de la isla ofrecen menús donde los protagonistas son los productos de temporada de la isla \n\n\n\n\nSE DESARROLLAN DEL 18 DE ABRIL AL 19 DE MAYO Y OFRECEN LA POSIBILIDAD DE DEGUSTAR MENÚS A 25 € O 40€  CON PAN Y ACEITE DE IBIZA COMO APERITIVO. PUEDEN ACOMPAÑARSE DE VINOS DE LA ISLA . \nPara consultar todos los restaurantes que participan en las jornadas y los menús que proponen\, descárgate el catálogo aquí  \nJornadas Gastronómicas Ibiza Sabors d’Eivissa
URL:https://www.saborsdeivissa.es/evento/jornadas-gastronomicas-sabors/
ATTACH;FMTTYPE=image/png:https://www.saborsdeivissa.es/wp-content/uploads/2023/04/agenda-web.png
END:VEVENT
BEGIN:VEVENT
DTSTART;TZID=Europe/Madrid:20230422T080000
DTEND;TZID=Europe/Madrid:20230422T160000
DTSTAMP:20260419T142801
CREATED:20230413T110224Z
LAST-MODIFIED:20230413T110224Z
UID:2203-1682150400-1682179200@www.saborsdeivissa.es
SUMMARY:Feria de la langosta\, la gamba y el pescado de Ibiza
DESCRIPTION:Sant Antoni acoge  la Fira de la Llagosta\, la Gamba y el Peix d’Eivissa para dar a conocer los pescados y mariscos más preciados de las Pitiusas. El objetivo es dar a conocer los productos estrella de las costas pitiusas y su gastronomía de una forma lúdica y didáctica.
URL:https://www.saborsdeivissa.es/evento/feria-de-la-langosta-la-gamba-y-el-pescado-de-ibiza/
LOCATION:Sant Antoni de Portmany\, Passeig de Ses Fonts\, Sant Antoni de Portmany\, Islas baleares\, 07820\, España
ATTACH;FMTTYPE=image/png:https://www.saborsdeivissa.es/wp-content/uploads/2023/04/feria-langosta.png
END:VEVENT
BEGIN:VEVENT
DTSTART;TZID=Europe/Madrid:20230422T120000
DTEND;TZID=Europe/Madrid:20230422T210000
DTSTAMP:20260419T142801
CREATED:20230413T112401Z
LAST-MODIFIED:20230413T112401Z
UID:2207-1682164800-1682197200@www.saborsdeivissa.es
SUMMARY:Feria del pulpo
DESCRIPTION:Feria del Pulpo en Sant Miquel – Fira des Polp. Ven a disfrutar de esta sabrosa Feria\, y prueba el delicioso y tradicional «Frit de polp» (sofrito de pulpo con patatas\, tomate\, cebolla o puerro\, pimiento\, ajo y guindilla). A las 15h también se servirá una paella popular. Con música en vivo: «Aykya» y «Simple Rock» y DJ Lost Angeles.
URL:https://www.saborsdeivissa.es/evento/feria-del-pulpo/
LOCATION:Sant Miquel de Balansat
ATTACH;FMTTYPE=image/png:https://www.saborsdeivissa.es/wp-content/uploads/2023/04/fira-polp.png
END:VEVENT
BEGIN:VEVENT
DTSTART;TZID=Europe/Madrid:20230429T081500
DTEND;TZID=Europe/Madrid:20230429T120000
DTSTAMP:20260419T142801
CREATED:20230413T093412Z
LAST-MODIFIED:20230413T104522Z
UID:2177-1682756100-1682769600@www.saborsdeivissa.es
SUMMARY:Visita a las colmenas del Rafal Trobat
DESCRIPTION:Dentro del marco de las jornadas gastronómicas Sabors de primavera\, se organiza una visita guiada al centro de divulgación de la apicultura y del proyecto de recuperación del ecotipo de abeja de Ibiza Rafal Trobat. Recogida en bus en el parking de los Multicines a las 08:15h y regreso del bus a las 12:00h. Registro en restauracio@pimeef.com \n 
URL:https://www.saborsdeivissa.es/evento/visita-a-las-comenas-del-rafal-trobat/
LOCATION:Sant Jordi de Ses Salines\, Sant Jordi de Ses Salines\, 07817\, España
ATTACH;FMTTYPE=image/jpeg:https://www.saborsdeivissa.es/wp-content/uploads/2023/04/colmenas-agenda.jpeg
END:VEVENT
BEGIN:VEVENT
DTSTART;TZID=Europe/Madrid:20230429T100000
DTEND;TZID=Europe/Madrid:20230429T130000
DTSTAMP:20260419T142801
CREATED:20230417T125058Z
LAST-MODIFIED:20230612T191456Z
UID:2275-1682762400-1682773200@www.saborsdeivissa.es
SUMMARY:Taller de elaboración de Flaó
DESCRIPTION:Taller de elaboración de Flaó\, enmarcado dentro de las jornadas gastronómicas Sabors de primavera\, organizadas por el Consell d’Eivissa y la Pimeef. El taller es impartido por Marga Orell\nRegistro en restauracio@pimeef.com \nTaller de elaboración de Flaó
URL:https://www.saborsdeivissa.es/evento/taller-de-elaboracion-de-flao/
LOCATION:Es Graner-Can Coves\, Polígono Montecristo\, Eivissa\, Illes Balears\, 07800\, España
ATTACH;FMTTYPE=image/jpeg:https://www.saborsdeivissa.es/wp-content/uploads/2023/04/flao-agenda.jpeg
END:VEVENT
END:VCALENDAR